BEGIN:VCALENDAR
VERSION:2.0
PRODID:-//ChamberMaster//Event Calendar 2.0//EN
METHOD:PUBLISH
X-PUBLISHED-TTL:P3D
REFRESH-INTERVAL:P3D
CALSCALE:GREGORIAN
BEGIN:VEVENT
DTSTART:20260514T020000Z
DTEND:20260514T040000Z
X-MICROSOFT-CDO-ALLDAYEVENT:FALSE
SUMMARY:Nuvision Fairbanks Member & Community Celebration
DESCRIPTION:Join us for a special celebration exclusively for Nuvision members & community partners at our Nuvision Credit Union Fairbanks Branch!\n\n\n\n\n\nJoin us for a night of celebration at our Nuvision Fairbanks Branch!\n\nNuvision is celebrating our Fairbanks members! You and a guest are cordially invited to join us for a special evening celebrating our members and the people who have supported Nuvision Credit Union through the years. This special evening is our way of saying thank you!\n\nWe're excited to host the celebration at our Nuvision Fairbanks Branch. Enjoy a variety of catered meal stations and drinks on us while you sit back\, relax\, and experience a private concert by Marc Brown and the Blues Crew.\n\nThis celebration is one of our ways of giving back to you\, our valued members.\n\nIn addition\, meet with our Fairbanks Branch and Nuvision Leadership Teams!\n\nOur new branch in Fairbanks has been a success because of you   our members. You will have the opportunity to visit after hours with your branch team and Nuvision executives including our CEO\, Roger Ballard.\n\nAttire: Casual to business casual (whatever you are comfortable in!)\n\nhttps://www.eventbrite.com/e/1986953226588?aff=oddtdtcreator
X-ALT-DESC;FMTTYPE=text/html:<div class="StructuredModuleRenderer_structuredContent__k7mNB StructuredModuleRenderer_text__GaXOv" data-testid="text-content" style="box-sizing: border-box\; padding: 0px\; margin: 0px\; color: rgb(88\, 81\, 99)\; align-self: stretch\; overflow: hidden\; text-overflow: ellipsis\; line-height: 23.94px\; letter-spacing: 0.1px\; font-size: 18px\; font-family: &quot\;Neue Plak&quot\;\, -apple-system\, BlinkMacSystemFont\, Roboto\, &quot\;Helvetica Neue&quot\;\, Helvetica\, Tahoma\, Arial\, sans-serif\;">\n<div style="box-sizing: border-box\; padding: 0px\; margin: 0px\;">\n<p style="box-sizing: border-box\; padding: 0px 0px 12px\; margin: 0px\;">Join us for a special celebration exclusively for Nuvision members &amp\; community partners at our Nuvision Credit Union Fairbanks Branch!</p>\n</div>\n</div>\n\n<div class="StructuredModuleRenderer_structuredContent__k7mNB StructuredModuleRenderer_text__GaXOv" data-testid="text-content" style="box-sizing: border-box\; padding: 0px\; margin: 0px\; color: rgb(88\, 81\, 99)\; align-self: stretch\; overflow: hidden\; text-overflow: ellipsis\; line-height: 23.94px\; letter-spacing: 0.1px\; font-size: 18px\; font-family: &quot\;Neue Plak&quot\;\, -apple-system\, BlinkMacSystemFont\, Roboto\, &quot\;Helvetica Neue&quot\;\, Helvetica\, Tahoma\, Arial\, sans-serif\;">\n<div style="box-sizing: border-box\; padding: 0px\; margin: 0px\;">\n<p style="box-sizing: border-box\; padding: 0px 0px 12px\; margin: 0px\;"><span style="box-sizing: border-box\; padding: 0px\; margin: 0px\; font-weight: 600\;">Join us for a night of celebration at</span><span style="box-sizing: border-box\; padding: 0px\; margin: 0px\; font-weight: 600\;">&nbsp\;</span><span style="box-sizing: border-box\; padding: 0px\; margin: 0px\; font-weight: 600\;">our</span><span style="box-sizing: border-box\; padding: 0px\; margin: 0px\; font-weight: 600\;">&nbsp\;</span><span style="box-sizing: border-box\; padding: 0px\; margin: 0px\; font-weight: 600\;">Nuvision</span><span style="box-sizing: border-box\; padding: 0px\; margin: 0px\; font-weight: 600\;">&nbsp\;</span><span style="box-sizing: border-box\; padding: 0px\; margin: 0px\; font-weight: 600\;">Fairbanks Branch!</span></p>\n\n<p style="box-sizing: border-box\; padding: 0px 0px 12px\; margin: 12px 0px 0px\;">Nuvision is celebrating our Fairbanks members! You and a guest are cordially invited to join us for a special evening celebrating our members and the people who have supported Nuvision Credit Union through the years. This special evening is our way of saying thank you!</p>\n\n<p style="box-sizing: border-box\; padding: 0px 0px 12px\; margin: 12px 0px 0px\;">We&rsquo\;re excited to host the celebration at our Nuvision Fairbanks Branch. Enjoy a variety of catered meal stations and drinks on us while you sit back\, relax\, and experience a private concert by Marc Brown and the Blues Crew.</p>\n\n<p style="box-sizing: border-box\; padding: 0px 0px 12px\; margin: 12px 0px 0px\;">This celebration is one of our ways of giving back to you\, our valued members.</p>\n\n<p style="box-sizing: border-box\; padding: 0px 0px 12px\; margin: 12px 0px 0px\;"><span style="box-sizing: border-box\; padding: 0px\; margin: 0px\; font-weight: 600\;">In addition\,</span><span style="box-sizing: border-box\; padding: 0px\; margin: 0px\; font-weight: 600\;">&nbsp\;</span><span style="box-sizing: border-box\; padding: 0px\; margin: 0px\; font-weight: 600\;">meet with</span><span style="box-sizing: border-box\; padding: 0px\; margin: 0px\; font-weight: 600\;">&nbsp\;</span><span style="box-sizing: border-box\; padding: 0px\; margin: 0px\; font-weight: 600\;">our</span><span style="box-sizing: border-box\; padding: 0px\; margin: 0px\; font-weight: 600\;">&nbsp\;</span><span style="box-sizing: border-box\; padding: 0px\; margin: 0px\; font-weight: 600\;">Fairbanks Branch and</span><span style="box-sizing: border-box\; padding: 0px\; margin: 0px\; font-weight: 600\;">&nbsp\;</span><span style="box-sizing: border-box\; padding: 0px\; margin: 0px\; font-weight: 600\;">Nuvision Leadership Teams</span><span style="box-sizing: border-box\; padding: 0px\; margin: 0px\; font-weight: 600\;">!</span></p>\n\n<p style="box-sizing: border-box\; padding: 0px 0px 12px\; margin: 12px 0px 0px\;">Our new branch in Fairbanks has been a success because of you &ndash\; our members. You will have the opportunity to visit after hours with your branch team and Nuvision executives including our CEO\, Roger Ballard.<br />\n<span style="box-sizing: border-box\; padding: 0px\; margin: 0px\; font-weight: 600\; color: rgb(88\, 81\, 99)\; font-family: &quot\;Neue Plak&quot\;\, -apple-system\, BlinkMacSystemFont\, Roboto\, &quot\;Helvetica Neue&quot\;\, Helvetica\, Tahoma\, Arial\, sans-serif\; font-size: 18px\; letter-spacing: 0.1px\;">Attire:</span><span style="color: rgb(88\, 81\, 99)\; font-family: &quot\;Neue Plak&quot\;\, -apple-system\, BlinkMacSystemFont\, Roboto\, &quot\;Helvetica Neue&quot\;\, Helvetica\, Tahoma\, Arial\, sans-serif\; font-size: 18px\; letter-spacing: 0.1px\;">&nbsp\;Casual to business casual (whatever you are comfortable in!)</span><br />\n<a data-auth="NotApplicable" data-linkindex="5" data-ogsc="" data-olk-copy-source="MessageBody" href="https://www.eventbrite.com/e/1986953226588?aff=oddtdtcreator" id="anchor-2cc3755b-76c5-41a0-99f4-04b466a61af1" style="border: 0px\; font-variant-numeric: inherit\; font-variant-east-asian: inherit\; font-variant-alternates: inherit\; font-variant-position: inherit\; font-variant-emoji: inherit\; font-stretch: inherit\; font-size: 14.6667px\; line-height: inherit\; font-family: Aptos\, sans-serif\; font-optical-sizing: inherit\; font-size-adjust: inherit\; font-kerning: inherit\; font-feature-settings: inherit\; font-variation-settings: inherit\; font-language-override: inherit\; margin: 0px\; padding: 0px\; vertical-align: baseline\; outline: 0px\;" title="https://www.eventbrite.com/e/1986953226588?aff=oddtdtcreator">https://www.eventbrite.com/e/1986953226588?aff=oddtdtcreator</a></p>\n</div>\n</div>\n
LOCATION:Location: Nuvision Fairbanks Branch Address: 375 Merhar Ave\, Fairbanks\, 99701
UID:e.106.33377
SEQUENCE:3
DTSTAMP:20260423T234115Z
URL:https://www.fairbankschamber.org/events/details/nuvision-fairbanks-member-community-celebration-33377
END:VEVENT

END:VCALENDAR
