BEGIN:VCALENDAR
VERSION:2.0
PRODID:-//ChamberMaster//Event Calendar 2.0//EN
METHOD:PUBLISH
X-PUBLISHED-TTL:P3D
REFRESH-INTERVAL:P3D
CALSCALE:GREGORIAN
BEGIN:VEVENT
DTSTART:20160911T220000Z
DTEND:20160912T010000Z
X-MICROSOFT-CDO-ALLDAYEVENT:FALSE
SUMMARY:Nutcracker Children's Auditions
DESCRIPTION:Your family can take part in the Fairbank's annual Nutcracker tradition! Children ages 8+ at the time of audition are eligible to audition to be part of North Star Ballet's magical production. No dance experience necessary! Find us on FaceBook - The North Star Ballet.
X-ALT-DESC;FMTTYPE=text/html:Your family can take part in the Fairbank&#39\;s annual Nutcracker tradition! Children ages 8+ at the time of audition are eligible to audition to be part of North Star Ballet&#39\;s magical production. No dance experience necessary! Find us on FaceBook - The North Star Ballet.
LOCATION:North Star Ballet School 1800 College Road (In the Tanana Valley Fairgrounds)
UID:e.106.16739
SEQUENCE:3
DTSTAMP:20260422T071118Z
URL:https://www.fairbankschamber.org/events/details/nutcracker-children-s-auditions-16739
END:VEVENT

END:VCALENDAR
