BEGIN:VCALENDAR
VERSION:2.0
PRODID:-//ChamberMaster//Event Calendar 2.0//EN
METHOD:PUBLISH
X-PUBLISHED-TTL:P3D
REFRESH-INTERVAL:P3D
CALSCALE:GREGORIAN
BEGIN:VEVENT
DTSTART:20161119T010000Z
DTEND:20161119T030000Z
X-MICROSOFT-CDO-ALLDAYEVENT:FALSE
SUMMARY:Northrim Roast & Boast
DESCRIPTION:Northrim Bank\, in partnership with UAF School of Management\, have teamed together to bring you the fifth annual Roast & Boast event. Come out and mingle with Golden Heart City's finest eateries as they serve delicious brews\, juices and teas. There will be door prizes\, baked goods\, fresh pressed juices and plenty of hot beverages for everyone to enjoy. Local is good.
X-ALT-DESC;FMTTYPE=text/html:Northrim Bank\, in partnership with UAF School of Management\, have teamed together to bring you the fifth annual Roast &amp\; Boast event. Come out and mingle with Golden Heart City&rsquo\;s finest eateries as they serve delicious brews\, juices and teas. There will be door prizes\, baked goods\, fresh pressed juices and plenty of hot beverages for everyone to enjoy. Local is good.
LOCATION:Northrim Bank\, 360 Merhar Ave\, Fairbanks\, AK 99701
UID:e.106.17362
SEQUENCE:3
DTSTAMP:20260422T043202Z
URL:https://www.fairbankschamber.org/events/details/northrim-roast-boast-17362
END:VEVENT

END:VCALENDAR
