BEGIN:VCALENDAR
VERSION:2.0
PRODID:-//ChamberMaster//Event Calendar 2.0//EN
METHOD:PUBLISH
X-PUBLISHED-TTL:P3D
REFRESH-INTERVAL:P3D
CALSCALE:GREGORIAN
BEGIN:VEVENT
DTSTART:20170520T180000Z
DTEND:20170521T000000Z
X-MICROSOFT-CDO-ALLDAYEVENT:FALSE
SUMMARY:North Pole Fire Department Annual Open House
DESCRIPTION:North Pole Fire Department is hosting our annual Open House for the community. Featuring fun for the whole family. Activities include\; Fire Engine Rides\, Earthquake Simulator Trailer\, Fire Safety Slide and of course Food and Refreshments. Stop by and see your local Firefighters.
X-ALT-DESC;FMTTYPE=text/html:North Pole Fire Department is hosting our annual Open House for the community. Featuring fun for the whole family. Activities include\; Fire Engine Rides\, Earthquake Simulator Trailer\, Fire Safety Slide and of course Food and Refreshments. Stop by and see your local Firefighters.
LOCATION:North Pole Fire Department 110 Lewis Street North Pole\, AK 99705
UID:e.106.18818
SEQUENCE:3
DTSTAMP:20260421T191146Z
URL:https://www.fairbankschamber.org/events/details/north-pole-fire-department-annual-open-house-18818
END:VEVENT

END:VCALENDAR
