BEGIN:VCALENDAR
VERSION:2.0
PRODID:-//ChamberMaster//Event Calendar 2.0//EN
METHOD:PUBLISH
X-PUBLISHED-TTL:P3D
REFRESH-INTERVAL:P3D
CALSCALE:GREGORIAN
BEGIN:VEVENT
DTSTART:20161030T020000Z
DTEND:20161030T060000Z
X-MICROSOFT-CDO-ALLDAYEVENT:FALSE
SUMMARY:Night for the North
DESCRIPTION:Join us for the 2016 Night for the North - an annual event to benefit the Northern Alaska Environmental Center. This year's event will be held at Raven Landing on Saturday\, October 29. A fun night of bidding frenzy with friends\, good food and drinks! Tickets are $50 per person and includes hearty appetizers. Consider registering as a Friend of the Auction for $200. As part of this package you will receive two event tickets\, your name recognized in the event program and reserved seats. Become a Table Sponsor for $500 which includes 8 tickets\, sponsor recognition and a table reserved in your name. Items for bid in the silent and outcry auctions will include outdoor gear - used and new\, local produce\, made in Alaska jewelry and crafts\, Fairbanks services and unique one of a kind experiences. Help celebrate the work of the Center as we continue protecting the places we play!
X-ALT-DESC;FMTTYPE=text/html:Join us for the 2016 Night for the North - an annual event to benefit the Northern Alaska Environmental Center. This year&#39\;s event will be held at Raven Landing on Saturday\, October 29. A fun night of bidding frenzy with friends\, good food and drinks! Tickets are $50 per person and includes hearty appetizers. Consider registering as a Friend of the Auction for $200. As part of this package you will receive two event tickets\, your name recognized in the event program and reserved seats. Become a Table Sponsor for $500 which includes 8 tickets\, sponsor recognition and a table reserved in your name. Items for bid in the silent and outcry auctions will include outdoor gear - used and new\, local produce\, made in Alaska jewelry and crafts\, Fairbanks services and unique one of a kind experiences. Help celebrate the work of the Center as we continue protecting the places we play!
LOCATION:Raven Landing Center
UID:e.106.17293
SEQUENCE:3
DTSTAMP:20260422T054029Z
URL:https://www.fairbankschamber.org/events/details/night-for-the-north-17293
END:VEVENT

END:VCALENDAR
