BEGIN:VCALENDAR
VERSION:2.0
PRODID:-//ChamberMaster//Event Calendar 2.0//EN
METHOD:PUBLISH
X-PUBLISHED-TTL:P3D
REFRESH-INTERVAL:P3D
CALSCALE:GREGORIAN
BEGIN:VEVENT
DTSTART:20170225T050000Z
DTEND:20170225T080000Z
X-MICROSOFT-CDO-ALLDAYEVENT:FALSE
SUMMARY:Motown Cabaret Fundraiser
DESCRIPTION:Bobby Lewis and Eustace Johnson (from the original Motown Cabaret in NYC) will lead the Alaskan Supremes in an evening of song from Motown\, complete with back up line dancers. Bring your dancing shoes and/or dress in the period fashion of MOTOWN. Bid on opportunity to sing or dance with the artists! Refreshments provided Silver Gulch and Specialty Imports. Cash bar. Appetizers included in ticket or table purchase.
X-ALT-DESC;FMTTYPE=text/html:Bobby Lewis and Eustace Johnson (from the original Motown Cabaret in NYC) will lead the Alaskan Supremes in an evening of song from Motown\, complete with back up line dancers. Bring your dancing shoes and/or dress in the period fashion of MOTOWN. Bid on opportunity to sing or dance with the artists! Refreshments provided Silver Gulch and Specialty Imports. Cash bar. Appetizers included in ticket or table purchase.
LOCATION:Pioneer Park\, Exhibit Hall
UID:e.106.17627
SEQUENCE:3
DTSTAMP:20260421T234229Z
URL:https://www.fairbankschamber.org/events/details/motown-cabaret-fundraiser-17627
END:VEVENT

END:VCALENDAR
