BEGIN:VCALENDAR
VERSION:2.0
PRODID:-//ChamberMaster//Event Calendar 2.0//EN
METHOD:PUBLISH
X-PUBLISHED-TTL:P3D
REFRESH-INTERVAL:P3D
CALSCALE:GREGORIAN
BEGIN:VEVENT
DTSTART:20170604T020000Z
DTEND:20170604T050000Z
X-MICROSOFT-CDO-ALLDAYEVENT:FALSE
SUMMARY:Montessori Mingle Fundraiser
DESCRIPTION:Join us under the white tent for an evening of fun! Enjoy music by Steve Brown\, Pat Fitzgerald\, Robin Dale Ford and Dave Parks and support quality\, non-profit early childhood education in Fairbanks. Fairbanks Montessori School is the interior's oldest preschool\, educating four generations of preschoolers for over 50 years. Sample appetizers by Hard Eats\, challenge your friends to lawn games and sip HooDoo beer and a variety of wines. Guests have the opportunity to bid on a variety of silent auction items. Purchase tickets online at www.fairbanksmontessori.org or call 451-8485.
X-ALT-DESC;FMTTYPE=text/html:Join us under the white tent for an evening of fun! Enjoy music by Steve Brown\, Pat Fitzgerald\, Robin Dale Ford and Dave Parks and support quality\, non-profit early childhood education in Fairbanks. Fairbanks Montessori School is the interior&rsquo\;s oldest preschool\, educating four generations of preschoolers for over 50 years. Sample appetizers by Hard Eats\, challenge your friends to lawn games and sip HooDoo beer and a variety of wines. Guests have the opportunity to bid on a variety of silent auction items. Purchase tickets online at www.fairbanksmontessori.org or call 451-8485.
LOCATION:2014 30th Avenue (Fairbanks Montessori School)
UID:e.106.18922
SEQUENCE:3
DTSTAMP:20260421T174620Z
URL:https://www.fairbankschamber.org/events/details/montessori-mingle-fundraiser-18922
END:VEVENT

END:VCALENDAR
