BEGIN:VCALENDAR
VERSION:2.0
PRODID:-//ChamberMaster//Event Calendar 2.0//EN
METHOD:PUBLISH
X-PUBLISHED-TTL:P3D
REFRESH-INTERVAL:P3D
CALSCALE:GREGORIAN
BEGIN:VEVENT
DTSTART:20161022T043000Z
DTEND:20161022T070000Z
X-MICROSOFT-CDO-ALLDAYEVENT:FALSE
SUMMARY:Monster Mash Social Dance
DESCRIPTION:8:30-11:00pm Pioneer Park Dance Center Come out and join us for some spooktacular fun with an early Halloween dance! Costumes are encouraged. Give them a test run Friday night. We'll be dancing to all types of music. So whether your dance moves are scary or not please join us. A potluck it shall be. Please bring your own tricks or treats to share. It'll be a graveyard smash! No experience or partner necessary. Please bring clean\, non-marking shoes. $5 members\, students\, & military/$6 general public
X-ALT-DESC;FMTTYPE=text/html:8:30-11:00pm Pioneer Park Dance Center Come out and join us for some spooktacular fun with an early Halloween dance! Costumes are encouraged. Give them a test run Friday night. We&rsquo\;ll be dancing to all types of music. So whether your dance moves are scary or not please join us. A potluck it shall be. Please bring your own tricks or treats to share. It&rsquo\;ll be a graveyard smash! No experience or partner necessary. Please bring clean\, non-marking shoes. $5 members\, students\, &amp\; military/$6 general public
LOCATION:Pioneer Park Dance Center
UID:e.106.17320
SEQUENCE:3
DTSTAMP:20260422T054041Z
URL:https://www.fairbankschamber.org/events/details/monster-mash-social-dance-17320
END:VEVENT

END:VCALENDAR
