BEGIN:VCALENDAR
VERSION:2.0
PRODID:-//ChamberMaster//Event Calendar 2.0//EN
METHOD:PUBLISH
X-PUBLISHED-TTL:P3D
REFRESH-INTERVAL:P3D
CALSCALE:GREGORIAN
BEGIN:VEVENT
DTSTART:20161022T180000Z
DTEND:20161023T000000Z
X-MICROSOFT-CDO-ALLDAYEVENT:FALSE
SUMMARY:Monroe Holiday Bazaar
DESCRIPTION:Join us for this year's Monroe Holiday Bazaar! There will be all kinds of vendors from soups to crafts and more.
X-ALT-DESC;FMTTYPE=text/html:Join us for this year&#39\;s Monroe Holiday Bazaar! There will be all kinds of vendors from soups to crafts and more.
LOCATION:Monroe Catholic High School
UID:e.106.17351
SEQUENCE:3
DTSTAMP:20260422T053708Z
URL:https://www.fairbankschamber.org/events/details/monroe-holiday-bazaar-17351
END:VEVENT

END:VCALENDAR
