BEGIN:VCALENDAR
VERSION:2.0
PRODID:-//ChamberMaster//Event Calendar 2.0//EN
METHOD:PUBLISH
X-PUBLISHED-TTL:P3D
REFRESH-INTERVAL:P3D
CALSCALE:GREGORIAN
BEGIN:VEVENT
DTSTART:20170404T200000Z
DTEND:20170404T220000Z
X-MICROSOFT-CDO-ALLDAYEVENT:FALSE
SUMMARY:Monroe Catholic Career Day
DESCRIPTION:Are you passionate about your career and willing to share your experience with students? If so\, please volunteer for the 2017 MCHS Career Day! Representatives from all career fields are welcome.
X-ALT-DESC;FMTTYPE=text/html:Are you passionate about your career and willing to share your experience with students? If so\, please volunteer for the 2017 MCHS Career Day! Representatives from all career fields are welcome.
LOCATION:Catholic Schools of Fairbanks\, MP Room
UID:e.106.17754
SEQUENCE:3
DTSTAMP:20260421T203402Z
URL:https://www.fairbankschamber.org/events/details/monroe-catholic-career-day-17754
END:VEVENT

END:VCALENDAR
