BEGIN:VCALENDAR
VERSION:2.0
PRODID:-//ChamberMaster//Event Calendar 2.0//EN
METHOD:PUBLISH
X-PUBLISHED-TTL:P3D
REFRESH-INTERVAL:P3D
CALSCALE:GREGORIAN
BEGIN:VEVENT
DTSTART:20170117T030000Z
DTEND:20170117T060000Z
X-MICROSOFT-CDO-ALLDAYEVENT:FALSE
SUMMARY:Monday Dance Lessons!
DESCRIPTION:6-Week Sessions Pioneer Park Dance Center Mondays 6:00-6:55pm ~ Country Style Polka I with Amy Speeter* 7:00-7:55pm ~ Country Style 2-Step I with Amy Speeter* 8:00-8:55pm ~ Beg. West Coast Swing with Megan Blanchard** Wednesdays 6:00-6:55pm ~ Intro to Social Ballroom with Rulon Jensen* 7:00-7:55pm ~ American Tango I with Tiffany Lehnerd** 8:00-8:55pm ~ American Rumba with Tiffany Lehnerd** *No experience necessary. **Partner dance experience required. Class Fees: Per 6-week Session: $60 members\, military\, & students/$70 general public Preregistration is available online at www.ballroomfairbanks.org
X-ALT-DESC;FMTTYPE=text/html:6-Week Sessions Pioneer Park Dance Center Mondays 6:00-6:55pm ~ Country Style Polka I with Amy Speeter* 7:00-7:55pm ~ Country Style 2-Step I with Amy Speeter* 8:00-8:55pm ~ Beg. West Coast Swing with Megan Blanchard** Wednesdays 6:00-6:55pm ~ Intro to Social Ballroom with Rulon Jensen* 7:00-7:55pm ~ American Tango I with Tiffany Lehnerd** 8:00-8:55pm ~ American Rumba with Tiffany Lehnerd** *No experience necessary. **Partner dance experience required. Class Fees: Per 6-week Session: $60 members\, military\, &amp\; students/$70 general public Preregistration is available online at www.ballroomfairbanks.org
LOCATION:Pioneer Park Dance Center
UID:e.106.17417
SEQUENCE:3
DTSTAMP:20260422T012354Z
URL:https://www.fairbankschamber.org/events/details/monday-dance-lessons-17417
END:VEVENT

END:VCALENDAR
