BEGIN:VCALENDAR
VERSION:2.0
PRODID:-//ChamberMaster//Event Calendar 2.0//EN
METHOD:PUBLISH
X-PUBLISHED-TTL:P3D
REFRESH-INTERVAL:P3D
CALSCALE:GREGORIAN
BEGIN:VEVENT
DTSTART:20170218T200000Z
DTEND:20170220T010000Z
X-MICROSOFT-CDO-ALLDAYEVENT:FALSE
SUMMARY:Midnight Sun Gold Run
DESCRIPTION:The Midnight Sun Gold Run is the 1st race of 3 in the Alaska Dog Mushers Championship Race Schedule. Races include 2-dog skijor\, 4-dog sled\, 6-dog sled and 10 dog sled.
X-ALT-DESC;FMTTYPE=text/html:The Midnight Sun Gold Run is the 1st race of 3 in the Alaska Dog Mushers Championship Race Schedule. Races include 2-dog skijor\, 4-dog sled\, 6-dog sled and 10 dog sled.
LOCATION:Mushers Hall Jeff Studdert Racegrounds
UID:e.106.17651
SEQUENCE:3
DTSTAMP:20260421T233944Z
URL:https://www.fairbankschamber.org/events/details/midnight-sun-gold-run-17651
END:VEVENT

END:VCALENDAR
