BEGIN:VCALENDAR
VERSION:2.0
PRODID:-//ChamberMaster//Event Calendar 2.0//EN
METHOD:PUBLISH
X-PUBLISHED-TTL:P3D
REFRESH-INTERVAL:P3D
CALSCALE:GREGORIAN
BEGIN:VEVENT
DTSTART:20160723T200000Z
DTEND:20160724T030000Z
X-MICROSOFT-CDO-ALLDAYEVENT:FALSE
SUMMARY:Metaphysical Faire
DESCRIPTION:Four Winds Metaphysical Faire is a free one-day event with multiple vendors providing services\, goods\, information\, and activities that are metaphysical or holistic in nature. Our hope is to bring people in the community together to share ideas\, explore spirituality and enjoy some outside the box FUN! We hope to see you there! Free Lectures and Classes 12:00 Moving Meditation to Honor the Four Directions with Amanda Bent 1:00 TBA 2:00 Hatha-Based Vinyasa Yoga with Jody Hassel 3:00 Introduction to Awakening the Illuminated Heart (with Meditation) with Pam Nelson 4:00 Holistic Methods for Working with Anxiety with Amy Carlson 5:00 Yoga Nidra: From Duality to Oneness with Amanda Culp 6:00 Moon Calendar Basics: Astrology for Everyday Life with Special Guest Astrologer Alex DQ (1.5 hours) Vendors ~ Alex DQ: Astrological Readings ~ Heart Stream Yoga: Yoga\, Clothing and HENNA ~ Hoop Dance: Mariah Lumley ~ Blossom House with Jody Hassel & Kendra Calhoun: Thai Massage\, Yoga and Tarot Readings ~ Pam Nelson of Awakening the Illuminated Heart: Sound and Vibrational Healings ~ Amy Carlson: Palm Readings ~ Haley Snyderman: doTERRA Essential Oils and Aromatouch ~ Linda Thai: Past Life\, Soul Blockage\, and Tarot Readings ~ Cat Bennet: Jewelry ranging from Costume to Fine ~ Karlan Bachmann: Botanical Skin Care Products ~ Four Winds Foundation: Ask about the Kryon event with Lee Carol\, author of Indigo Children! ~ And more! Including a Really Free Table! Cost of readings and massages range from *donation* to $50 per session. There's something affordable for everyone. We hope to see you there!
X-ALT-DESC;FMTTYPE=text/html:Four Winds Metaphysical Faire is a free one-day event with multiple vendors providing services\, goods\, information\, and activities that are metaphysical or holistic in nature. Our hope is to bring people in the community together to share ideas\, explore spirituality and enjoy some outside the box FUN! We hope to see you there! Free Lectures and Classes 12:00 Moving Meditation to Honor the Four Directions with Amanda Bent 1:00 TBA 2:00 Hatha-Based Vinyasa Yoga with Jody Hassel 3:00 Introduction to Awakening the Illuminated Heart (with Meditation) with Pam Nelson 4:00 Holistic Methods for Working with Anxiety with Amy Carlson 5:00 Yoga Nidra: From Duality to Oneness with Amanda Culp 6:00 Moon Calendar Basics: Astrology for Everyday Life with Special Guest Astrologer Alex DQ (1.5 hours) Vendors ~ Alex DQ: Astrological Readings ~ Heart Stream Yoga: Yoga\, Clothing and HENNA ~ Hoop Dance: Mariah Lumley ~ Blossom House with Jody Hassel &amp\; Kendra Calhoun: Thai Massage\, Yoga and Tarot Readings ~ Pam Nelson of Awakening the Illuminated Heart: Sound and Vibrational Healings ~ Amy Carlson: Palm Readings ~ Haley Snyderman: doTERRA Essential Oils and Aromatouch ~ Linda Thai: Past Life\, Soul Blockage\, and Tarot Readings ~ Cat Bennet: Jewelry ranging from Costume to Fine ~ Karlan Bachmann: Botanical Skin Care Products ~ Four Winds Foundation: Ask about the Kryon event with Lee Carol\, author of Indigo Children! ~ And more! Including a Really Free Table! Cost of readings and massages range from *donation* to $50 per session. There&#39\;s something affordable for everyone. We hope to see you there!
LOCATION:Dog Mushers Hall\, 925 Farmers Loop Road\, Fairbanks\, Alaska 99712
UID:e.106.16691
SEQUENCE:3
DTSTAMP:20260422T095646Z
URL:https://www.fairbankschamber.org/events/details/metaphysical-faire-07-23-2016-16691
END:VEVENT

END:VCALENDAR
