BEGIN:VCALENDAR
VERSION:2.0
PRODID:-//ChamberMaster//Event Calendar 2.0//EN
METHOD:PUBLISH
X-PUBLISHED-TTL:P3D
REFRESH-INTERVAL:P3D
CALSCALE:GREGORIAN
BEGIN:VEVENT
DTSTART:20170401T200000Z
DTEND:20170402T000000Z
X-MICROSOFT-CDO-ALLDAYEVENT:FALSE
SUMMARY:KUAC Poster Signing
DESCRIPTION:Join KUAC and Well Street Art Co. for the debut of the 2017 poster\, "Daybreak\," by Fairbanks artist Kes Woodward. This stunning image captures the magical light shining in the boreal forest. For a $50 donation to KUAC\, attendees receive a poster\, which the artist will sign. There will be refreshments and a chance to mingle with other KUAC supporters.
X-ALT-DESC;FMTTYPE=text/html:Join KUAC and Well Street Art Co. for the debut of the 2017 poster\, &quot\;Daybreak\,&quot\; by Fairbanks artist Kes Woodward. This stunning image captures the magical light shining in the boreal forest. For a $50 donation to KUAC\, attendees receive a poster\, which the artist will sign. There will be refreshments and a chance to mingle with other KUAC supporters.
LOCATION:Well Street Art. Co.\, 1304 Well Street
UID:e.106.17713
SEQUENCE:3
DTSTAMP:20260421T203531Z
URL:https://www.fairbankschamber.org/events/details/kuac-poster-signing-17713
END:VEVENT

END:VCALENDAR
