BEGIN:VCALENDAR
VERSION:2.0
PRODID:-//ChamberMaster//Event Calendar 2.0//EN
METHOD:PUBLISH
X-PUBLISHED-TTL:P3D
REFRESH-INTERVAL:P3D
CALSCALE:GREGORIAN
BEGIN:VEVENT
DTSTART:20170315T233000Z
DTEND:20170316T003000Z
X-MICROSOFT-CDO-ALLDAYEVENT:FALSE
SUMMARY:Kick Butts Day
DESCRIPTION:This is a nationwide event for kids focusing on learning about Big Tobacco and the health risks of smoking. We'll have some fun activities and a pinata!
X-ALT-DESC;FMTTYPE=text/html:This is a nationwide event for kids focusing on learning about Big Tobacco and the health risks of smoking. We&#39\;ll have some fun activities and a pinata!
LOCATION:Boys and Girls Club of Fairbanks 645 8th Ave\, Fairbanks\, AK
UID:e.106.17747
SEQUENCE:3
DTSTAMP:20260421T215927Z
URL:https://www.fairbankschamber.org/events/details/kick-butts-day-17747
END:VEVENT

END:VCALENDAR
