BEGIN:VCALENDAR
VERSION:2.0
PRODID:-//ChamberMaster//Event Calendar 2.0//EN
METHOD:PUBLISH
X-PUBLISHED-TTL:P3D
REFRESH-INTERVAL:P3D
CALSCALE:GREGORIAN
BEGIN:VEVENT
DTSTART:20170423T220000Z
DTEND:20170423T230000Z
X-MICROSOFT-CDO-ALLDAYEVENT:FALSE
SUMMARY:Johansen Music Studio Violin Recital
DESCRIPTION:Dr. Gail Johansen presents her violin and viola students in recital\, featuring music from Bach to Kreisler.
X-ALT-DESC;FMTTYPE=text/html:Dr. Gail Johansen presents her violin and viola students in recital\, featuring music from Bach to Kreisler.
LOCATION:Zion Lutheran Church 2982 Davis Rd Fairbanks\, AK 99709
UID:e.106.18807
SEQUENCE:3
DTSTAMP:20260421T203820Z
URL:https://www.fairbankschamber.org/events/details/johansen-music-studio-violin-recital-18807
END:VEVENT

END:VCALENDAR
