BEGIN:VCALENDAR
VERSION:2.0
PRODID:-//ChamberMaster//Event Calendar 2.0//EN
METHOD:PUBLISH
X-PUBLISHED-TTL:P3D
REFRESH-INTERVAL:P3D
CALSCALE:GREGORIAN
BEGIN:VEVENT
DTSTART:20160702T020000Z
DTEND:20160703T060000Z
X-MICROSOFT-CDO-ALLDAYEVENT:FALSE
SUMMARY:Jammin' at the Rapids
DESCRIPTION:The Lodge at Black Rapids is hosting a live original music festival on July 1st and 2nd to benefit the restoration of the historic roadhouse at Black Rapids! There will be live music\, delicious food and drink\, artisan vendors\, and beautiful mountain vistas. We have nearly a dozen bands lined up to perform so bring your dancing shoes and your appetite since we are going to be grilling out right next to the roadhouse. Bring your tent to pitch on our airstrip for the night so that you can enjoy both days of festivities. The proceeds are going towards finishing the restoration of the historic roadhouse to bring it back to its former glory!
X-ALT-DESC;FMTTYPE=text/html:The Lodge at Black Rapids is hosting a live original music festival on July 1st and 2nd to benefit the restoration of the historic roadhouse at Black Rapids! There will be live music\, delicious food and drink\, artisan vendors\, and beautiful mountain vistas. We have nearly a dozen bands lined up to perform so bring your dancing shoes and your appetite since we are going to be grilling out right next to the roadhouse. Bring your tent to pitch on our airstrip for the night so that you can enjoy both days of festivities. The proceeds are going towards finishing the restoration of the historic roadhouse to bring it back to its former glory!
LOCATION:The Lodge at Black Rapids Mile 227.4 Richardson Highway
UID:e.106.16603
SEQUENCE:3
DTSTAMP:20260422T101821Z
URL:https://www.fairbankschamber.org/events/details/jammin-at-the-rapids-07-01-2016-16603
END:VEVENT

END:VCALENDAR
