BEGIN:VCALENDAR
VERSION:2.0
PRODID:-//ChamberMaster//Event Calendar 2.0//EN
METHOD:PUBLISH
X-PUBLISHED-TTL:P3D
REFRESH-INTERVAL:P3D
CALSCALE:GREGORIAN
BEGIN:VEVENT
DTSTART:20160928T023000Z
DTEND:20160928T040000Z
X-MICROSOFT-CDO-ALLDAYEVENT:FALSE
SUMMARY:Interior Alaska Candidate Forum
DESCRIPTION:The Interior Alaska Candidate Forum\, hosted by Young Professionals Council and Vote in the Heart of Alaska\, will be an opportunity to interact with local candidates in a conversation-focused environment. The event will cover 4 main topics: Behavioral Health\, Education\, Finance\, and Employment. Candidates will be divided into groups and will not be placed into a group with the person they are running against. The event will include a quick introduction period. It will then transition to a 40-minute focus session on each of the main topics. The event will conclude with a 30-minute interactive session where candidates are free to converse with attendees on an individual basis. The forum will be at Chief Andrew Isaac Health Center on Tuesday 9/27/2016 from 6:30-8:00 p.m. The following candidates will be in attendance: Senator John Coghill Luke Hopkins Rep. Adam Wool Aaron Lojewski Mayor John Eberhart Councilman Jim Matherly Andrew Gray Jo Ann Borges
X-ALT-DESC;FMTTYPE=text/html:The Interior Alaska Candidate Forum\, hosted by Young Professionals Council and Vote in the Heart of Alaska\, will be an opportunity to interact with local candidates in a conversation-focused environment. The event will cover 4 main topics: Behavioral Health\, Education\, Finance\, and Employment. Candidates will be divided into groups and will not be placed into a group with the person they are running against. The event will include a quick introduction period. It will then transition to a 40-minute focus session on each of the main topics. The event will conclude with a 30-minute interactive session where candidates are free to converse with attendees on an individual basis. The forum will be at Chief Andrew Isaac Health Center on Tuesday 9/27/2016 from 6:30-8:00 p.m. The following candidates will be in attendance: Senator John Coghill Luke Hopkins Rep. Adam Wool Aaron Lojewski Mayor John Eberhart Councilman Jim Matherly Andrew Gray Jo Ann Borges
LOCATION:Chief Andrew Isaac Health Center 1717 W Cowels St\, Fairbanks\, Alaska 99701
UID:e.106.17296
SEQUENCE:3
DTSTAMP:20260422T071344Z
URL:https://www.fairbankschamber.org/events/details/interior-alaska-candidate-forum-17296
END:VEVENT

END:VCALENDAR
