BEGIN:VCALENDAR
VERSION:2.0
PRODID:-//ChamberMaster//Event Calendar 2.0//EN
METHOD:PUBLISH
X-PUBLISHED-TTL:P3D
REFRESH-INTERVAL:P3D
CALSCALE:GREGORIAN
BEGIN:VEVENT
DTSTART:20171103T233000Z
DTEND:20171104T023000Z
X-MICROSOFT-CDO-ALLDAYEVENT:FALSE
SUMMARY:IGP First Friday
DESCRIPTION:Come visit our shop\, grab your 2018 Scenes of Fairbanks or Dogs of Fairbanks Calendar\, and celebrate the reopening of Noble Street!
X-ALT-DESC;FMTTYPE=text/html:Come visit our shop\, grab your 2018 Scenes of Fairbanks or Dogs of Fairbanks Calendar\, and celebrate the reopening of Noble Street!
LOCATION:Interior Graphics & Printing 405 Noble Street
UID:e.106.20202
SEQUENCE:3
DTSTAMP:20260421T102358Z
URL:https://www.fairbankschamber.org/events/details/igp-first-friday-20202
END:VEVENT

END:VCALENDAR
