BEGIN:VCALENDAR
VERSION:2.0
PRODID:-//ChamberMaster//Event Calendar 2.0//EN
METHOD:PUBLISH
X-PUBLISHED-TTL:P3D
REFRESH-INTERVAL:P3D
CALSCALE:GREGORIAN
BEGIN:VEVENT
DTSTART:20170915T190000Z
DTEND:20170915T213000Z
X-MICROSOFT-CDO-ALLDAYEVENT:FALSE
SUMMARY:IABA'S BUILDING ECONOMIC SUMMIT 2017
DESCRIPTION:We'll give a warm welcome to our Keynote Speaker from Washington D.C.\, NAHB's Chief Economist Robert Dietz\, Ph.D.\, who will share macro-economic news\, local economic conditions based on a 2017 impact study\, federal policy and interest rates\, and why housing is set for growth. His dynamic presentation will follow with a concise question and answer session. Builders & Realtors may earn CEUs. This event is also open to the public. More information can be found at http://iaba.ticketleap.com/bes2017/
X-ALT-DESC;FMTTYPE=text/html:We&#39\;ll give a warm welcome to our Keynote Speaker from Washington D.C.\, NAHB&#39\;s Chief Economist Robert Dietz\, Ph.D.\, who will share macro-economic news\, local economic conditions based on a 2017 impact study\, federal policy and interest rates\, and why housing is set for growth. His dynamic presentation will follow with a concise question and answer session. Builders &amp\; Realtors may earn CEUs. This event is also open to the public. More information can be found at http://iaba.ticketleap.com/bes2017/
LOCATION:Westmark Fairbanks GOLD Ballroom
UID:e.106.20064
SEQUENCE:3
DTSTAMP:20260421T130634Z
URL:https://www.fairbankschamber.org/events/details/iaba-s-building-economic-summit-2017-20064
END:VEVENT

END:VCALENDAR
