BEGIN:VCALENDAR
VERSION:2.0
PRODID:-//ChamberMaster//Event Calendar 2.0//EN
METHOD:PUBLISH
X-PUBLISHED-TTL:P3D
REFRESH-INTERVAL:P3D
CALSCALE:GREGORIAN
BEGIN:VEVENT
DTSTART:20170708T150000Z
DTEND:20170710T040000Z
X-MICROSOFT-CDO-ALLDAYEVENT:FALSE
SUMMARY:IABA Big Catch Classic Derby & BBQ 2017
DESCRIPTION:The geographically largest fishing derby in the nation! Join us for the IABA's 3rd Annual BIG CATCH CLASSIC Derby & BBQ on July 8th & 9th! Each year this event more than triples in size. Eligible fishing locations include all ADF&G approved Interior waters\, lakes\, and rivers! Last year\, several groups arrived to weigh-in fish caught from their favorite fishing ponds off-site. We had a blast hearing their stories and we can't wait to hear yours! FISH YOUR FAVORITE FISHING HOLE (INTERIOR WATERS ONLY\, NORTHERN ADF&G REGS APPLY) PRIZES AWARDED FOR NORTHERN PIKE * ARCTIC GRAYLING * BURBOT * AND MORE! A CHANCE TO WIN $5\,000 CASH PRIZE! PELICAN COOLER\, TROPHIES\, DOOR PRIZES AND GOODIE BAGS! GUN RAFFLE ON-SITE (Tickets Sold in Advance @Sportsmans Warehouse Fairbanks on June 24th! Only 100 Tickets Sold! Permitee#1083\; Operator#46) DONATIONS OF FISH MEAT TO THE FAIRBANKS FOOD BANK ON-SITE! Advance Registration Online at interioraba.com\; On-site registration July 8 7AM-12PM. Fishing begins July 8 7AM\, Ends July 9 4PM\; Weigh-In Hours July 9 12PM-4PM Awards & BBQ Dinner July 9 @Tanana Lakes Recreation Area PAVILION 5PM-8PM. $20/Adults\; $5/teens\; Under 13 Free. Tickets include BBQ Dinner\, Participation in the IABA Big Catch Classic\, a chance to win amazing door prizes\, and good ol' fashioned local fun in the summer sun. Registration & additional rules at interioraba.com.
X-ALT-DESC;FMTTYPE=text/html:The geographically largest fishing derby in the nation! Join us for the&nbsp\;IABA&#39\;s 3rd Annual BIG CATCH CLASSIC Derby &amp\; BBQ on July 8th &amp\; 9th! Each year this event more than triples in size. Eligible fishing locations include all ADF&amp\;G approved Interior waters\, lakes\, and rivers! Last year\, several groups arrived to weigh-in fish caught from their favorite fishing ponds off-site. We had a blast hearing their stories and we can&#39\;t wait to hear yours! FISH YOUR FAVORITE FISHING HOLE (INTERIOR WATERS ONLY\, NORTHERN ADF&amp\;G REGS APPLY) PRIZES AWARDED FOR NORTHERN PIKE * ARCTIC GRAYLING * BURBOT * AND MORE! A CHANCE TO WIN $5\,000 CASH PRIZE! PELICAN COOLER\, TROPHIES\, DOOR PRIZES AND GOODIE BAGS! GUN RAFFLE ON-SITE (Tickets Sold in Advance @Sportsmans Warehouse Fairbanks on June 24th! Only 100 Tickets Sold! Permitee#1083\; Operator#46) DONATIONS OF FISH MEAT TO THE FAIRBANKS FOOD BANK ON-SITE! Advance Registration Online at interioraba.com\; On-site registration July 8 7AM-12PM. Fishing begins July 8 7AM\, Ends July 9 4PM\; Weigh-In Hours July 9 12PM-4PM Awards &amp\; BBQ Dinner July 9 @Tanana Lakes Recreation Area PAVILION 5PM-8PM. $20/Adults\; $5/teens\; Under 13 Free. Tickets include BBQ Dinner\, Participation in the IABA Big Catch Classic\, a chance to win amazing door prizes\, and good ol&#39\; fashioned local fun in the summer sun. Registration &amp\; additional rules at interioraba.com.
LOCATION:Tanana Lakes Recreation Area: The Pavilion
UID:e.106.19982
SEQUENCE:3
DTSTAMP:20260421T161604Z
URL:https://www.fairbankschamber.org/events/details/iaba-big-catch-classic-derby-bbq-2017-19982
END:VEVENT

END:VCALENDAR
