BEGIN:VCALENDAR
VERSION:2.0
PRODID:-//ChamberMaster//Event Calendar 2.0//EN
METHOD:PUBLISH
X-PUBLISHED-TTL:P3D
REFRESH-INTERVAL:P3D
CALSCALE:GREGORIAN
BEGIN:VEVENT
DTSTART:20191216T010000Z
DTEND:20191216T030000Z
X-MICROSOFT-CDO-ALLDAYEVENT:FALSE
SUMMARY:Holiday Concert
DESCRIPTION:Holiday Concert but on by the Fairbanks Community Band\n\nFree concert\, donations welcome!\n\n\n\nPlease join us for a happy holiday celebration. Bring your children\, particularly if they play in a school band\, bring the grandparents\, bring the neighbors\, have fun with us. Santa has promised to make an appearance. Among other pieces we will be playing Sleigh Ride\, The Most Wonderful Time of the Year\, A Hanukkah Festival and Silver Bells.
X-ALT-DESC;FMTTYPE=text/html:Holiday Concert but on by the Fairbanks Community Band<br />\nFree concert\, donations welcome!<br />\n<br />\n<span style="color: rgb(102\, 102\, 102)\; font-family: Helvetica\, Arial\, sans-serif\; font-size: 12px\;">Please join us for a happy holiday celebration. Bring your children\, particularly if they play in a school band\, bring the grandparents\, bring the neighbors\, h</span><span class="text_exposed_show" style="display: inline\; font-family: Helvetica\, Arial\, sans-serif\; color: rgb(102\, 102\, 102)\; font-size: 12px\;">ave fun with us. Santa has promised to make an appearance. Among other pieces we will be playing Sleigh Ride\, The Most&nbsp\;<span class="_ezo" id="u_fetchstream_63_1k" style="cursor: pointer\; font-family: inherit\; color: rgb(112\, 158\, 225)\; font-weight: 600\;">Wonderful Time</span>&nbsp\;of the Year\, A Hanukkah Festival and Silver Bells.</span>
LOCATION:Charles W Davis Concert Hall\, UAF
UID:e.106.25999
SEQUENCE:3
DTSTAMP:20260420T062701Z
URL:https://www.fairbankschamber.org/events/details/holiday-concert-25999
END:VEVENT

END:VCALENDAR
