BEGIN:VCALENDAR
VERSION:2.0
PRODID:-//ChamberMaster//Event Calendar 2.0//EN
METHOD:PUBLISH
X-PUBLISHED-TTL:P3D
REFRESH-INTERVAL:P3D
CALSCALE:GREGORIAN
BEGIN:VEVENT
DTSTART:20170324T020000Z
DTEND:20170324T040000Z
X-MICROSOFT-CDO-ALLDAYEVENT:FALSE
SUMMARY:Hoarfrost Launch Party
DESCRIPTION:The Banks Alehouse will be hosting a launch party to celebrate the newest Vodka to the family. Come enjoy the evening with local business Hoarfrost Vodka and it's owners. Their will be awesome merchandise from Hoarfrost given away throughout the evening and amazing signature Hoarfrost cocktails for sale. The best way to taste this vodka is by ordering a chilled shot. You will be astounded by the flavor.
X-ALT-DESC;FMTTYPE=text/html:The Banks Alehouse will be hosting a launch party to celebrate the newest Vodka to the family. Come enjoy the evening with local business Hoarfrost Vodka and it&#39\;s owners. Their will be awesome merchandise from Hoarfrost given away throughout the evening and amazing signature Hoarfrost cocktails for sale. The best way to taste this vodka is by ordering a chilled shot. You will be astounded by the flavor.
LOCATION:The Banks Alehouse
UID:e.106.17759
SEQUENCE:3
DTSTAMP:20260421T220049Z
URL:https://www.fairbankschamber.org/events/details/hoarfrost-launch-party-17759
END:VEVENT

END:VCALENDAR
