BEGIN:VCALENDAR
VERSION:2.0
PRODID:-//ChamberMaster//Event Calendar 2.0//EN
METHOD:PUBLISH
X-PUBLISHED-TTL:P3D
REFRESH-INTERVAL:P3D
CALSCALE:GREGORIAN
BEGIN:VEVENT
DTSTART:20161008T010000Z
DTEND:20161008T060000Z
X-MICROSOFT-CDO-ALLDAYEVENT:FALSE
SUMMARY:HIPOW Auction & Dinner
DESCRIPTION:Join us for HIPOW in support of the Catholic Schools of Fairbanks. Tonight is GCI Family Night! Admission is free and all are invited. Register ahead of time online at hipowauction.com or call 456-7970. All kinds of fun things can be found at the auction: vacations\, dump truck loads of gravel\, tools\, pedicures\, toys and much\, much more. If you can't make it\, you can still participate in the silent auction through online bidding.
X-ALT-DESC;FMTTYPE=text/html:Join us for HIPOW in support of the Catholic Schools of Fairbanks. Tonight is GCI Family Night! Admission is free and all are invited. Register ahead of time online at hipowauction.com or call 456-7970. All kinds of fun things can be found at the auction: vacations\, dump truck loads of gravel\, tools\, pedicures\, toys and much\, much more. If you can&#39\;t make it\, you can still participate in the silent auction through online bidding.
LOCATION:Boileau Hall 615 Monroe St.
UID:e.106.17315
SEQUENCE:3
DTSTAMP:20260422T053750Z
URL:https://www.fairbankschamber.org/events/details/hipow-auction-dinner-17315
END:VEVENT

END:VCALENDAR
