BEGIN:VCALENDAR
VERSION:2.0
PRODID:-//ChamberMaster//Event Calendar 2.0//EN
METHOD:PUBLISH
X-PUBLISHED-TTL:P3D
REFRESH-INTERVAL:P3D
CALSCALE:GREGORIAN
BEGIN:VEVENT
DTSTART:20161009T010000Z
DTEND:20161009T075500Z
X-MICROSOFT-CDO-ALLDAYEVENT:FALSE
SUMMARY:HIPOW Auction & Dinner
DESCRIPTION:Join us for HIPOW in support of the Catholic Schools of Fairbanks. Saturday is the Fairbanks Memorial Hospital Black Tie Dinner. Tickets can be purchased online or by calling 456-7970. All kinds of fun things can be found at the auction: vacations\, dump truck loads of gravel\, tools\, pedicures\, toys and much\, much more. Door Prize: 2 roundtrip tickets anywhere Alaska Airlines flies courtesy of Alaska Airlines. If you can't make it\, you can still participate in the silent auctions through online bidding. Sign up online (it's free): hipowauction.com.
X-ALT-DESC;FMTTYPE=text/html:Join us for HIPOW in support of the Catholic Schools of Fairbanks. Saturday is the Fairbanks Memorial Hospital Black Tie Dinner. Tickets can be purchased online or by calling 456-7970. All kinds of fun things can be found at the auction: vacations\, dump truck loads of gravel\, tools\, pedicures\, toys and much\, much more. Door Prize: 2 roundtrip tickets anywhere Alaska Airlines flies courtesy of Alaska Airlines. If you can&#39\;t make it\, you can still participate in the silent auctions through online bidding. Sign up online (it&#39\;s free): hipowauction.com.
LOCATION:Boileau Hall 615 Monroe St.
UID:e.106.17316
SEQUENCE:3
DTSTAMP:20260422T054239Z
URL:https://www.fairbankschamber.org/events/details/hipow-auction-dinner-10-08-2016-17316
END:VEVENT

END:VCALENDAR
