BEGIN:VCALENDAR
VERSION:2.0
PRODID:-//ChamberMaster//Event Calendar 2.0//EN
METHOD:PUBLISH
X-PUBLISHED-TTL:P3D
REFRESH-INTERVAL:P3D
CALSCALE:GREGORIAN
BEGIN:VEVENT
DTSTART:20160827T030000Z
DTEND:20160827T040000Z
X-MICROSOFT-CDO-ALLDAYEVENT:FALSE
SUMMARY:HAARP Science Lecture
DESCRIPTION:Date: Friday\, August 26 2016 Time: 7:00 pm Location: Wrangell-St. Elias National Park Visitor Center Auditorium. Mile 106.8 Richardson Highway\, Cooper Center Speaker: Dr. Chris Fallen Presented in partnership with the Wrangell Institute of Science and Environment (WISE) Title: Radio modification of the ionosphere and who uses the HAARP thing anyway? Recommended for ages 15 and up.
X-ALT-DESC;FMTTYPE=text/html:Date: Friday\, August 26 2016 Time: 7:00 pm Location: Wrangell-St. Elias National Park Visitor Center Auditorium. Mile 106.8 Richardson Highway\, Cooper Center Speaker: Dr. Chris Fallen Presented in partnership with the Wrangell Institute of Science and Environment (WISE) Title: Radio modification of the ionosphere and who uses the HAARP thing anyway? Recommended for ages 15 and up.
LOCATION:Wrangell-St. Elias National Park Visitor Center Auditorium. Mile 106.8 Richardson Highway\, Cooper Center
UID:e.106.16705
SEQUENCE:3
DTSTAMP:20260422T082541Z
URL:https://www.fairbankschamber.org/events/details/haarp-science-lecture-08-26-2016-16705
END:VEVENT

END:VCALENDAR
