BEGIN:VCALENDAR
VERSION:2.0
PRODID:-//ChamberMaster//Event Calendar 2.0//EN
METHOD:PUBLISH
X-PUBLISHED-TTL:P3D
REFRESH-INTERVAL:P3D
CALSCALE:GREGORIAN
BEGIN:VEVENT
DTSTART;VALUE=DATE:20170624
DTEND;VALUE=DATE:20170710
TRANSP:TRANSPARENT
X-MICROSOFT-CDO-ALLDAYEVENT:TRUE
SUMMARY:GUN RAFFLE
DESCRIPTION:The Interior Alaska Building Asociation is hosting a Gun Raffle for a Mossberg MVP Flex .308 OR Your Choice of Firearm via Gift Card\, valued at $399.99! Ticket sales\, rules and regs available at Sportsman's Warehouse on June 24 and at the IABA Big Catch Classic Derby on July 8 & 9- or until we sell out! Tickets are $10/each or 5 for $45. Only 100 Tickets will be sold\; Prize awarded on July 9th 2017 beginning at 5PM at the IABA Big Catch Classic Derby Awards BBQ (5-8PM). The prize must be awarded! Winner determined by a drawing\, ticket holders must be present to win! Permitee #0183\; Operator #46 Proceeds help the IABA provide member programs\, encouraging education & positive development of the building industry in the Interior.
X-ALT-DESC;FMTTYPE=text/html:The Interior Alaska Building Asociation is hosting a Gun Raffle for a Mossberg MVP Flex .308 OR Your Choice of Firearm via Gift Card\, valued at $399.99! Ticket sales\, rules and regs available at Sportsman&#39\;s Warehouse on June 24 and at the IABA Big Catch Classic Derby on July 8 &amp\; 9- or until we sell out! Tickets are $10/each or 5 for $45. Only 100 Tickets will be sold\; Prize awarded on July 9th 2017 beginning at 5PM at the IABA Big Catch Classic Derby Awards BBQ (5-8PM). The prize must be awarded! Winner determined by a drawing\, ticket holders must be present to win! Permitee #0183\; Operator #46 Proceeds help the IABA provide member programs\, encouraging education &amp\; positive development of the building industry in the Interior.
LOCATION:Sales: Sportsman's Warehouse Fairbanks June 24 Drawing and Remaining Ticket Sales: Tanana Lakes Recreation Area Pavilion July 9\, 5-8PM
UID:e.106.19983
SEQUENCE:3
DTSTAMP:20260420T035306Z
URL:https://www.fairbankschamber.org/events/details/gun-raffle-19983
END:VEVENT

END:VCALENDAR
