BEGIN:VCALENDAR
VERSION:2.0
PRODID:-//ChamberMaster//Event Calendar 2.0//EN
METHOD:PUBLISH
X-PUBLISHED-TTL:P3D
REFRESH-INTERVAL:P3D
CALSCALE:GREGORIAN
BEGIN:VEVENT
DTSTART:20170228T163000Z
DTEND:20170228T170000Z
X-MICROSOFT-CDO-ALLDAYEVENT:FALSE
SUMMARY:GRC & Interior Delegation Meeting
DESCRIPTION:
X-ALT-DESC;FMTTYPE=text/html:
LOCATION:Chamber Office Conference Room Dial-in: 888 285 0307 Passcode: 273 273 9
UID:e.106.17648
SEQUENCE:3
DTSTAMP:20260421T234412Z
URL:https://www.fairbankschamber.org/events/details/grc-interior-delegation-meeting-02-28-2017-17648
END:VEVENT

END:VCALENDAR
