BEGIN:VCALENDAR
VERSION:2.0
PRODID:-//ChamberMaster//Event Calendar 2.0//EN
METHOD:PUBLISH
X-PUBLISHED-TTL:P3D
REFRESH-INTERVAL:P3D
CALSCALE:GREGORIAN
BEGIN:VEVENT
DTSTART:20170430T220000Z
DTEND:20170501T010000Z
X-MICROSOFT-CDO-ALLDAYEVENT:FALSE
SUMMARY:GI Tract 5K FUN Run/Walk
DESCRIPTION:Fun run/walk to raise money for the GI Gee Wiz Heart Walk team participating in the Fairbanks American Heart Association Walk. We offer a multi-person discount rate of $35 for 2 participants includes t-shirt. First 100 participants receive a free t-shirt.
X-ALT-DESC;FMTTYPE=text/html:Fun run/walk to raise money for the GI Gee Wiz Heart Walk team participating in the Fairbanks American Heart Association Walk. We offer a multi-person discount rate of $35 for 2 participants includes t-shirt. First 100 participants receive a free t-shirt.
LOCATION:UAF -Geophysical Institute (903 Koyukuk Dr)
UID:e.106.18792
SEQUENCE:3
DTSTAMP:20260421T203404Z
URL:https://www.fairbankschamber.org/events/details/gi-tract-5k-fun-run-walk-18792
END:VEVENT

END:VCALENDAR
