BEGIN:VCALENDAR
VERSION:2.0
PRODID:-//ChamberMaster//Event Calendar 2.0//EN
METHOD:PUBLISH
X-PUBLISHED-TTL:P3D
REFRESH-INTERVAL:P3D
CALSCALE:GREGORIAN
BEGIN:VEVENT
DTSTART:20170928T020000Z
DTEND:20170928T040000Z
X-MICROSOFT-CDO-ALLDAYEVENT:FALSE
SUMMARY:Get To Know Your School Board Candidates!
DESCRIPTION:The Young Professionals Council (YPC) and League of Women Voters are hosting a Fairbanks North Star Borough School Board Candidate Forum on Wednesday\, September 27th from 6 - 8 pm in the Mona Lisa Drexler Assembly Chambers in the FNSB Administrative Building (907 Terminal St). Successful candidates will be selected by voters on Tuesday\, October 3rd and will serve 3-year terms. Seat E: Mat Wade\, Tim Doran\, Chrya Sanderson and Michael Kenna Seat F: Deborah Rinio and Sean Patrick Rice Seat G: Wendy Dominique and Jodi Rhoades Admission is free and light refreshments will be served. Use the tickets link on our Facebook event page to submit questions you'd like to ask the school board candidates. Interested in volunteering for the event? Email fairbanksypc@gmail.com to get involved. YPC is a nonpartisan project of the Fairbanks Economic Development Corporation\, a nonprofit organization. League of Women Voters is a local non-partisan organization.
X-ALT-DESC;FMTTYPE=text/html:The Young Professionals Council (YPC) and League of Women Voters are hosting a Fairbanks North Star Borough School Board Candidate Forum on Wednesday\, September 27th from 6 - 8 pm in the Mona Lisa Drexler Assembly Chambers in the FNSB Administrative Building (907 Terminal St). Successful candidates will be selected by voters on Tuesday\, October 3rd and will serve 3-year terms. Seat E: Mat Wade\, Tim Doran\, Chrya Sanderson and Michael Kenna Seat F: Deborah Rinio and Sean Patrick Rice Seat G: Wendy Dominique and Jodi Rhoades Admission is free and light refreshments will be served. Use the tickets link on our Facebook event page to submit questions you&#39\;d like to ask the school board candidates. Interested in volunteering for the event? Email fairbanksypc@gmail.com to get involved. YPC is a nonpartisan project of the Fairbanks Economic Development Corporation\, a nonprofit organization. League of Women Voters is a local non-partisan organization.
LOCATION:FNSB Administrative Building 907 Terminal Street Fairbanks\, Alaska 99701
UID:e.106.20097
SEQUENCE:3
DTSTAMP:20260421T131840Z
URL:https://www.fairbankschamber.org/events/details/get-to-know-your-school-board-candidates-20097
END:VEVENT

END:VCALENDAR
