BEGIN:VCALENDAR
VERSION:2.0
PRODID:-//ChamberMaster//Event Calendar 2.0//EN
METHOD:PUBLISH
X-PUBLISHED-TTL:P3D
REFRESH-INTERVAL:P3D
CALSCALE:GREGORIAN
BEGIN:VEVENT
DTSTART:20170625T010000Z
DTEND:20170625T020000Z
X-MICROSOFT-CDO-ALLDAYEVENT:FALSE
SUMMARY:Free Salsa Dance Lesson—with Lucia Artacho!
DESCRIPTION:Back by popular demand: free\, fun Latin dance lessons with Lucia Artacho continue at Hoarfrost Distilling. June 24 features continuation of Salsa! No experience necessary. (Under 21 welcome with parent/guardian.) www.luciafamilyfitness.com
X-ALT-DESC;FMTTYPE=text/html:Back by popular demand: free\, fun Latin dance lessons with Lucia Artacho continue at Hoarfrost Distilling. June 24 features continuation of Salsa! No experience necessary. (Under 21 welcome with parent/guardian.) www.luciafamilyfitness.com
LOCATION:Hoarfrost Distilling 3501 Lathrop St (facing Van Horn Rd) Fairbanks\, Alaska 99701
UID:e.106.18955
SEQUENCE:3
DTSTAMP:20260421T175006Z
URL:https://www.fairbankschamber.org/events/details/free-salsa-dance-lesson-with-lucia-artacho-06-24-2017-18955
END:VEVENT

END:VCALENDAR
