BEGIN:VCALENDAR
VERSION:2.0
PRODID:-//ChamberMaster//Event Calendar 2.0//EN
METHOD:PUBLISH
X-PUBLISHED-TTL:P3D
REFRESH-INTERVAL:P3D
CALSCALE:GREGORIAN
BEGIN:VEVENT
DTSTART:20170309T040000Z
DTEND:20170309T043000Z
X-MICROSOFT-CDO-ALLDAYEVENT:FALSE
SUMMARY:Free Cha-Cha dance lesson with Lucia Artacho!
DESCRIPTION:Free\, fun Cha-Cha dance lesson with Lucia Artacho as part of Hoarfrost Distilling's International Women's Day Celebration! No experience necessary! http://www.luciafamilyfitness.com/home.html
X-ALT-DESC;FMTTYPE=text/html:Free\, fun&nbsp\;Cha-Cha dance lesson&nbsp\;with&nbsp\;Lucia Artacho as part of Hoarfrost Distilling&#39\;s International Women&#39\;s Day Celebration! No experience necessary! http://www.luciafamilyfitness.com/home.html
LOCATION:Hoarfrost Distilling 3501 Lathrop St (facing Van Horn Rd) Fairbanks\, Alaska 99701
UID:e.106.17745
SEQUENCE:3
DTSTAMP:20260421T221459Z
URL:https://www.fairbankschamber.org/events/details/free-cha-cha-dance-lesson-with-lucia-artacho-17745
END:VEVENT

END:VCALENDAR
