BEGIN:VCALENDAR
VERSION:2.0
PRODID:-//ChamberMaster//Event Calendar 2.0//EN
METHOD:PUBLISH
X-PUBLISHED-TTL:P3D
REFRESH-INTERVAL:P3D
CALSCALE:GREGORIAN
BEGIN:VEVENT
DTSTART:20170205T043000Z
DTEND:20170205T073000Z
X-MICROSOFT-CDO-ALLDAYEVENT:FALSE
SUMMARY:Formal Valentine's Day Ball
DESCRIPTION:Tasty finger foods and beverages provided. Waltz\, Foxtrot\, Swing\, Hustle\, Cha-Cha\, Salsa & more. Please wear modest formal attire and bring a clean pair of shoes to dance in. This event sponsored by the Ballroom Dance Club of Fairbanks and the Lathrop High School Ballroom Dance Team. No experience or partner necessary. Please bring clean\, non-marking shoes. $10 students/members/military\, $15 general public
X-ALT-DESC;FMTTYPE=text/html:Tasty finger foods and beverages provided. Waltz\, Foxtrot\, Swing\, Hustle\, Cha-Cha\, Salsa &amp\; more. Please wear modest formal attire and bring a clean pair of shoes to dance in. This event sponsored by the Ballroom Dance Club of Fairbanks and the Lathrop High School Ballroom Dance Team. No experience or partner necessary. Please bring clean\, non-marking shoes. $10 students/members/military\, $15 general public
LOCATION:Pioneer Park Dance Center
UID:e.106.17629
SEQUENCE:3
DTSTAMP:20260421T234406Z
URL:https://www.fairbankschamber.org/events/details/formal-valentine-s-day-ball-17629
END:VEVENT

END:VCALENDAR
