BEGIN:VCALENDAR
VERSION:2.0
PRODID:-//ChamberMaster//Event Calendar 2.0//EN
METHOD:PUBLISH
X-PUBLISHED-TTL:P3D
REFRESH-INTERVAL:P3D
CALSCALE:GREGORIAN
BEGIN:VEVENT
DTSTART:20170606T220000Z
DTEND:20170607T010000Z
X-MICROSOFT-CDO-ALLDAYEVENT:FALSE
SUMMARY:Follow Up Housing Summit
DESCRIPTION:Fairbanks Economic Development Corporation is hosting a series of Housing Summits to address the future housing needs due to the projected and expected increase of personnel at Eielson Air Force Base from the addition of two squadrons of F-35s. These Summits are intended to provide interested parties with much of the initial information on expected housing requirements\, preferred housing locations\, challenges\, and any resources to overcome those obstacles. Our goal is to provide you with the information you'll need to make educated decisions regarding your involvement in this exciting economic opportunity. The next Housing Summit is scheduled for Tuesday\, June 6 from 2 - 5 pm at the Pipeline Training Center in Fairbanks. It will feature breakout sessions such as: Municipal Government the City of North Pole\, the City of Fairbanks\, and the FNSB. Finance/Funding local banks\, Alaska Housing Finance Corporation\, investors\, etc. Sellers/Buyers land owners and developers Services builders/construction\, land clearing\, appraisals\, etc. And more!
X-ALT-DESC;FMTTYPE=text/html:Fairbanks Economic Development Corporation is hosting a series of Housing Summits to address the future housing needs due to the projected and expected increase of personnel at Eielson Air Force Base from the addition of two squadrons of F-35s. These Summits are intended to provide interested parties with much of the initial information on expected housing requirements\, preferred housing locations\, challenges\, and any resources to overcome those obstacles. Our goal is to provide you with the information you&rsquo\;ll need to make educated decisions regarding your involvement in this exciting economic opportunity. The next Housing Summit is scheduled for Tuesday\, June 6 from 2 - 5 pm at the Pipeline Training Center in Fairbanks. It will feature breakout sessions such as: Municipal Government&mdash\;the City of North Pole\, the City of Fairbanks\, and the FNSB. Finance/Funding&mdash\;local banks\, Alaska Housing Finance Corporation\, investors\, etc. Sellers/Buyers&mdash\;land owners and developers Services&mdash\;builders/construction\, land clearing\, appraisals\, etc. And more!
LOCATION:Pipeline Training Center 3605 Cartwright Ct Bldg C Fairbanks\, AK 99701
UID:e.106.18929
SEQUENCE:3
DTSTAMP:20260421T174704Z
URL:https://www.fairbankschamber.org/events/details/follow-up-housing-summit-18929
END:VEVENT

END:VCALENDAR
