BEGIN:VCALENDAR
VERSION:2.0
PRODID:-//ChamberMaster//Event Calendar 2.0//EN
METHOD:PUBLISH
X-PUBLISHED-TTL:P3D
REFRESH-INTERVAL:P3D
CALSCALE:GREGORIAN
BEGIN:VEVENT
DTSTART:20170303T033000Z
DTEND:20170303T053000Z
X-MICROSOFT-CDO-ALLDAYEVENT:FALSE
SUMMARY:FNJFF - Keep Quiet
DESCRIPTION:KEEP QUIET: Thursday\, March 2\, 6:30 pm\, at AK Coffee Roasters\, Geist Rd. As vice-president of Hungary's far-right extremist party\, Csanad Szegedi espoused anti-Semitic rhetoric and Holocaust denials and founded the Hungarian Guard\, a now-banned militia. But his life was soon upended when Szegedi's grandparents were revealed to be Jewish and his beloved grandmother an Auschwitz survivor who hid her faith fearing persecution. KEEP QUIET depicts Szegedi's three-year journey as he embraces his newfound religion and confronts the truths of his family's past\, his own wrong doing and the turbulent history of his country. But is this astonishing transformation a process of genuine reparation and spiritual awakening? Or is he simply a desperate man who\, having failed to suppress the truth\, has nowhere else to turn? Hungary and UK| 2016 | documentary | English subtitles | 92 minutes | information at: www.keepquietmovie.com
X-ALT-DESC;FMTTYPE=text/html:KEEP QUIET: Thursday\, March 2\, 6:30 pm\, at AK Coffee Roasters\, Geist Rd. As vice-president of Hungary&rsquo\;s far-right extremist party\, Csanad Szegedi espoused anti-Semitic rhetoric and Holocaust denials and founded the Hungarian Guard\, a now-banned militia. But his life was soon upended when Szegedi&rsquo\;s grandparents were revealed to be Jewish and his beloved grandmother an Auschwitz survivor who hid her faith fearing persecution. KEEP QUIET depicts Szegedi&rsquo\;s three-year journey as he embraces his newfound religion and confronts the truths of his family&rsquo\;s past\, his own wrong doing and the turbulent history of his country. But is this astonishing transformation a process of genuine reparation and spiritual awakening? Or is he simply a desperate man who\, having failed to suppress the truth\, has nowhere else to turn? Hungary and UK| 2016 | documentary | English subtitles | 92 minutes | information at: www.keepquietmovie.com
LOCATION:Alaska Coffee Roasting Co
UID:e.106.17682
SEQUENCE:3
DTSTAMP:20260421T215805Z
URL:https://www.fairbankschamber.org/events/details/fnjff-keep-quiet-17682
END:VEVENT

END:VCALENDAR
