BEGIN:VCALENDAR
VERSION:2.0
PRODID:-//ChamberMaster//Event Calendar 2.0//EN
METHOD:PUBLISH
X-PUBLISHED-TTL:P3D
REFRESH-INTERVAL:P3D
CALSCALE:GREGORIAN
BEGIN:VEVENT
DTSTART:20170305T043000Z
DTEND:20170305T063000Z
X-MICROSOFT-CDO-ALLDAYEVENT:FALSE
SUMMARY:FNJFF - Carvalho's Journey
DESCRIPTION:CARVALHO'S JOURNEY: Saturday\, March 4\, 7:30 pm Well Street Art Company. In 1853 Solomon Carvalho\, a painter and photographer who had never saddled a horse survived grueling conditions along the journey from New York through Kansas\, Utah\, New Mexico\, Colorado and California. His experiences as an observant Sephardic Jew on the western trail grant a window into the inter-ethnic cultural exchanges commonplace in this period. Traveling alongside mountain men\, pioneers\, Native Americans and Mormons\, Carvalho produced beautiful art: daguerreotypes that became the lens through which the world experienced the American West. Carvalho's funny and humanist writings come to life along with voiceovers by acclaimed actors and first-person accounts by John Fremont\, their Native-American guides\, and 19th century luminaries such as Brigham Young\, with whom Carvalho had a unique audience in Salt Lake City. Film provided by The National Center for Jewish Film\, www.jewishfilm.org USA | 2015 | documentary | 85minutes | information at: www.carvalhosjourney.com/the-film
X-ALT-DESC;FMTTYPE=text/html:CARVALHO&rsquo\;S JOURNEY: Saturday\, March 4\, 7:30 pm Well Street Art Company. In 1853 Solomon Carvalho\, a painter and photographer who had never saddled a horse survived grueling conditions along the journey from New York through Kansas\, Utah\, New Mexico\, Colorado and California. His experiences as an observant Sephardic Jew on the western trail grant a window into the inter-ethnic cultural exchanges commonplace in this period. Traveling alongside mountain men\, pioneers\, Native Americans and Mormons\, Carvalho produced beautiful art: daguerreotypes that became the lens through which the world experienced the American West. Carvalho&rsquo\;s funny and humanist writings come to life along with voiceovers by acclaimed actors and first-person accounts by John Fremont\, their Native-American guides\, and 19th century luminaries such as Brigham Young\, with whom Carvalho had a unique audience in Salt Lake City. Film provided by The National Center for Jewish Film\,&nbsp\;www.jewishfilm.org USA | 2015 | documentary | 85minutes | information at: www.carvalhosjourney.com/the-film
LOCATION:Well Street Art Co
UID:e.106.17683
SEQUENCE:3
DTSTAMP:20260421T220517Z
URL:https://www.fairbankschamber.org/events/details/fnjff-carvalho-s-journey-17683
END:VEVENT

END:VCALENDAR
