BEGIN:VCALENDAR
VERSION:2.0
PRODID:-//ChamberMaster//Event Calendar 2.0//EN
METHOD:PUBLISH
X-PUBLISHED-TTL:P3D
REFRESH-INTERVAL:P3D
CALSCALE:GREGORIAN
BEGIN:VEVENT
DTSTART:20170108T053000Z
DTEND:20170108T080000Z
X-MICROSOFT-CDO-ALLDAYEVENT:FALSE
SUMMARY:First Saturday Social Dance
DESCRIPTION:Everyone's invited to kick up their heels at this month's Saturday Social Dance. Whether you're experienced or not\, this is a great way to get moving and meet new people. No experience or partner necessary. Please bring clean\, non-marking shoes. $5 members\, students\, military/$6 general public
X-ALT-DESC;FMTTYPE=text/html:Everyone&rsquo\;s invited to kick up their heels at this month&rsquo\;s Saturday Social Dance. Whether you&rsquo\;re experienced or not\, this is a great way to get moving and meet new people. No experience or partner necessary. Please bring clean\, non-marking shoes. $5 members\, students\, military/$6 general public
LOCATION:Pioneer Park Dance Center
UID:e.106.17419
SEQUENCE:3
DTSTAMP:20260422T011702Z
URL:https://www.fairbankschamber.org/events/details/first-saturday-social-dance-17419
END:VEVENT

END:VCALENDAR
