BEGIN:VCALENDAR
VERSION:2.0
PRODID:-//ChamberMaster//Event Calendar 2.0//EN
METHOD:PUBLISH
X-PUBLISHED-TTL:P3D
REFRESH-INTERVAL:P3D
CALSCALE:GREGORIAN
BEGIN:VEVENT
DTSTART:20170707T230000Z
DTEND:20170708T040000Z
X-MICROSOFT-CDO-ALLDAYEVENT:FALSE
SUMMARY:First Friday Art Show: Phases
DESCRIPTION:Stephanie Barney\, owner of Latitude 64 Photography\, will be showcasing her photography on July 7th at Hoarfrost Distilling. Come enjoy the different phases that her lens captures. Stephanie was born & raised in Fairbanks\, Alaska. She's a 3rd generation Alaskan who can't get enough of this vast state. Stephanie grew up dog mushing\, horse back riding\, and flying in the back of her Dad?s bush planes.  Stephanie's passion for photography runs deep and far and she cannot wait to share her different phases with you!  http://latitude64photography.com/   (Under 21 welcome with parent/guardian.)
X-ALT-DESC;FMTTYPE=text/html:Stephanie Barney\, owner of Latitude 64 Photography\, will be showcasing her photography on July 7th at Hoarfrost Distilling. Come enjoy the different phases that her lens captures. Stephanie was born &amp\; raised in Fairbanks\, Alaska. She's a 3rd generation Alaskan who can't get enough of this vast state. Stephanie grew up dog mushing\, horse back riding\, and flying in the back of her Dad?s bush planes.  Stephanie's passion for photography runs deep and far and she cannot wait to share her different phases with you!  http://latitude64photography.com/   (Under 21 welcome with parent/guardian.)
LOCATION:Hoarfrost Distilling 3501 Lathrop St (facing Van Horn Rd) Fairbanks\, Alaska 99701
UID:e.106.19984
SEQUENCE:3
DTSTAMP:20260421T161058Z
URL:https://www.fairbankschamber.org/events/details/first-friday-art-show-phases-19984
END:VEVENT

END:VCALENDAR
