BEGIN:VCALENDAR
VERSION:2.0
PRODID:-//ChamberMaster//Event Calendar 2.0//EN
METHOD:PUBLISH
X-PUBLISHED-TTL:P3D
REFRESH-INTERVAL:P3D
CALSCALE:GREGORIAN
BEGIN:VEVENT
DTSTART;VALUE=DATE:20161017
DTEND;VALUE=DATE:20161020
TRANSP:TRANSPARENT
X-MICROSOFT-CDO-ALLDAYEVENT:TRUE
SUMMARY:First Alaskans Elders & Youth Conference
DESCRIPTION:
X-ALT-DESC;FMTTYPE=text/html:
LOCATION:
UID:e.106.11256
SEQUENCE:3
DTSTAMP:20260422T055040Z
URL:https://www.fairbankschamber.org/events/details/first-alaskans-elders-youth-conference-10-17-2016-11256
END:VEVENT

END:VCALENDAR
