BEGIN:VCALENDAR
VERSION:2.0
PRODID:-//ChamberMaster//Event Calendar 2.0//EN
METHOD:PUBLISH
X-PUBLISHED-TTL:P3D
REFRESH-INTERVAL:P3D
CALSCALE:GREGORIAN
BEGIN:VEVENT
DTSTART:20170826T210000Z
DTEND:20170826T230000Z
X-MICROSOFT-CDO-ALLDAYEVENT:FALSE
SUMMARY:Film Event
DESCRIPTION:Everyone is welcome to attend a special film event\, "The Refuge". This event will focus on the current issues we are facing with the Arctic National Wildlife Refuge Coastal Plains. Information\, food and awesome prizes! "Together We Stand To Protect The Porcupine Caribou Herd".
X-ALT-DESC;FMTTYPE=text/html:Everyone is welcome to attend a special film event\, &quot\;The Refuge&quot\;. This event will focus on the current issues we are facing with the Arctic National Wildlife Refuge Coastal Plains. Information\, food and awesome prizes! &quot\;Together We Stand To Protect The Porcupine Caribou Herd&quot\;.
LOCATION:JP JONES CENTER 2400 Rickert Street\, off of 25th and Cushman.
UID:e.106.20075
SEQUENCE:3
DTSTAMP:20260421T150652Z
URL:https://www.fairbankschamber.org/events/details/film-event-20075
END:VEVENT

END:VCALENDAR
