BEGIN:VCALENDAR
VERSION:2.0
PRODID:-//ChamberMaster//Event Calendar 2.0//EN
METHOD:PUBLISH
X-PUBLISHED-TTL:P3D
REFRESH-INTERVAL:P3D
CALSCALE:GREGORIAN
BEGIN:VEVENT
DTSTART;VALUE=DATE:20161011
DTEND;VALUE=DATE:20161012
TRANSP:TRANSPARENT
X-MICROSOFT-CDO-ALLDAYEVENT:TRUE
SUMMARY:Feast and Faith
DESCRIPTION:For Ages 18-35 to learn more about their Faith in a Social Setting.
X-ALT-DESC;FMTTYPE=text/html:For Ages 18-35 to learn more about their Faith in a Social Setting.
LOCATION:Grizzli's Pizza
UID:e.106.17298
SEQUENCE:3
DTSTAMP:20260422T054747Z
URL:https://www.fairbankschamber.org/events/details/feast-and-faith-17298
END:VEVENT

END:VCALENDAR
