BEGIN:VCALENDAR
VERSION:2.0
PRODID:-//ChamberMaster//Event Calendar 2.0//EN
METHOD:PUBLISH
X-PUBLISHED-TTL:P3D
REFRESH-INTERVAL:P3D
CALSCALE:GREGORIAN
BEGIN:VEVENT
DTSTART:20170616T180000Z
DTEND:20170617T220000Z
X-MICROSOFT-CDO-ALLDAYEVENT:FALSE
SUMMARY:Father's Day Putting Tournament
DESCRIPTION:PUTT FOR A CHANCE TO WIN A NEW SILVERADO. Friday and Saturday come down for the Father's Day Putting Tournament. Qualifying rounds are happening from 10am - 2pm Friday and Saturday. The tournament will take place at 2:15pm on Saturday. There will be prizes for the top finishers. The Grand Prize winner will get a chance to putt for a 2017 SILVERADO!!! We will have food on the grill so come by for free lunch and a chance to win! No purchase necessary. Must be 18 or older. Certain terms and restrictions apply. Please see dealer for a complete list of rules and regulations.
X-ALT-DESC;FMTTYPE=text/html:PUTT FOR A CHANCE TO WIN A NEW SILVERADO. Friday and Saturday come down for the Father&#39\;s Day Putting Tournament. Qualifying rounds are happening from 10am - 2pm Friday and Saturday. The tournament will take place at 2:15pm on Saturday. There will be prizes for the top finishers. The Grand Prize winner will get a chance to putt for a 2017 SILVERADO!!! We will have food on the grill so come by for free lunch and a chance to win! No purchase necessary. Must be 18 or older. Certain terms and restrictions apply. Please see dealer for a complete list of rules and regulations.
LOCATION:3300 South Cushman
UID:e.106.18957
SEQUENCE:3
DTSTAMP:20260421T174925Z
URL:https://www.fairbankschamber.org/events/details/father-s-day-putting-tournament-18957
END:VEVENT

END:VCALENDAR
