BEGIN:VCALENDAR
VERSION:2.0
PRODID:-//ChamberMaster//Event Calendar 2.0//EN
METHOD:PUBLISH
X-PUBLISHED-TTL:P3D
REFRESH-INTERVAL:P3D
CALSCALE:GREGORIAN
BEGIN:VEVENT
DTSTART:20260506T200000Z
DTEND:20260506T220000Z
X-MICROSOFT-CDO-ALLDAYEVENT:FALSE
SUMMARY:FAST Planning Technical Committee Meeting
DESCRIPTION:FAST Planning will hold a public meeting on May 6 to discuss several transportation and infrastructure projects and studies affecting our area. Topics will include College Road\, Badger Road\, Peger Road\, and a Downtown Traffic Study.\n\nThere will be time for public comment\, making this a great opportunity to stay informed and share input if you care about local transportation and infrastructure.
X-ALT-DESC;FMTTYPE=text/html:<p data-end="371" data-start="137">FAST Planning will hold a public meeting on May 6 to discuss several transportation and infrastructure projects and studies affecting our area. Topics will include College Road\, Badger Road\, Peger Road\, and a Downtown Traffic Study.</p>\n\n<p data-end="535" data-start="373">There will be time for public comment\, making this a great opportunity to stay informed and share input if you care about local transportation and infrastructure.</p>\n
LOCATION:The meeting is open to the public and can be attended via Zoom or in person at Suite 215 in the KeyBank Building. If you'd like to attend via zoom\, on the day of the meeting\, go to www.fastplanning.us/keepup/zoom & click the technical committee meeting button!
UID:e.106.33374
SEQUENCE:3
DTSTAMP:20260422T075434Z
URL:https://www.fairbankschamber.org/events/details/fast-planning-technical-committee-meeting-33374
END:VEVENT

END:VCALENDAR
