BEGIN:VCALENDAR
VERSION:2.0
PRODID:-//ChamberMaster//Event Calendar 2.0//EN
METHOD:PUBLISH
X-PUBLISHED-TTL:P3D
REFRESH-INTERVAL:P3D
CALSCALE:GREGORIAN
BEGIN:VEVENT
DTSTART:20170520T150000Z
DTEND:20170520T220000Z
X-MICROSOFT-CDO-ALLDAYEVENT:FALSE
SUMMARY:Fairbanks Aviation Day 2017
DESCRIPTION:Curious about what happens at Fairbanks International Airport? Would you like to get up close to real airplanes? Receive instructions from an FAA Air Traffic Controller? Plan a flight-seeing trip for this summer? You will be able to do all these things\, and a lot more on Saturday\, May 20th at Fairbanks Aviation Day. This one-day event includes airport tours\, mini-seminars\, a pancake breakfast\, free flights for youth\, ages 8-17\, display aircraft\, and a chance to take a tour "behind the scenes."
X-ALT-DESC;FMTTYPE=text/html:Curious about what happens at Fairbanks International Airport? Would you like to get up close to real airplanes? Receive instructions from an FAA Air Traffic Controller? Plan a flight-seeing trip for this summer? You will be able to do all these things\, and a lot more on Saturday\, May 20th at Fairbanks Aviation Day. This one-day event includes airport tours\, mini-seminars\, a pancake breakfast\, free flights for youth\, ages 8-17\, display aircraft\, and a chance to take a tour &quot\;behind the scenes.&quot\;
LOCATION:UAF CTC Aviation Hanger\, 3504 South University Avenue\, Fairbanks\, AK 99709
UID:e.106.18839
SEQUENCE:3
DTSTAMP:20260421T191119Z
URL:https://www.fairbankschamber.org/events/details/fairbanks-aviation-day-2017-18839
END:VEVENT

END:VCALENDAR
