BEGIN:VCALENDAR
VERSION:2.0
PRODID:-//ChamberMaster//Event Calendar 2.0//EN
METHOD:PUBLISH
X-PUBLISHED-TTL:P3D
REFRESH-INTERVAL:P3D
CALSCALE:GREGORIAN
BEGIN:VEVENT
DTSTART:20161105T200000Z
DTEND:20161106T010000Z
X-MICROSOFT-CDO-ALLDAYEVENT:FALSE
SUMMARY:Fairbanks Arts Mini- Bazaar
DESCRIPTION:Every Saturday during November\, Fairbanks Arts will host a mini-bazaar in the Bear Gallery from 12-5 pm! Each mini-bazaar features 10 local Alaskan artists with tables featuring original art & craft items\, and each Saturday the line up of Artists changes!
X-ALT-DESC;FMTTYPE=text/html:Every Saturday during November\, Fairbanks Arts will host a mini-bazaar in the Bear Gallery from 12-5 pm! Each mini-bazaar features 10 local Alaskan artists with tables featuring original art &amp\; craft items\, and each Saturday the line up of Artists changes!
LOCATION:Bear Gallery\, Alaska Centennial Center for the Arts\, Pioneer Park
UID:e.106.17341
SEQUENCE:3
DTSTAMP:20260422T042216Z
URL:https://www.fairbankschamber.org/events/details/fairbanks-arts-mini-bazaar-17341
END:VEVENT

END:VCALENDAR
