BEGIN:VCALENDAR
VERSION:2.0
PRODID:-//ChamberMaster//Event Calendar 2.0//EN
METHOD:PUBLISH
X-PUBLISHED-TTL:P3D
REFRESH-INTERVAL:P3D
CALSCALE:GREGORIAN
BEGIN:VEVENT
DTSTART:20170407T163000Z
DTEND:20170408T010000Z
X-MICROSOFT-CDO-ALLDAYEVENT:FALSE
SUMMARY:EXPORT COMPLIANCE TRAINING
DESCRIPTION:EXPORT COMPLIANCE TRAINING\n\nKeep Current on YOUR Requirements as an Exporter!  \n\nWhy travel to the lower 48?!\n\nLearn from an EXPERT!  \n \n\nWHO SHOULD ATTEND:  Business Owners\,  Finance Managers\,Traffic Managers\, Plant Managers\, ISO Managers\, Sales Managers\, Controllers\, Operations Managers\, Purchasing Managers\,  Shipping/Receiving Personnel\, Customer Service Managers\, Compliance Officers. Anyone Involved with Exports!
X-ALT-DESC;FMTTYPE=text/html:<h1 align="center" style="margin-top:0in\;margin-right:0in\;margin-bottom:3.75pt\;margin-left:0in\;text-align:center\;"><span style="font-family:arial\,sans-serif\;"><span style="font-size:15.0pt\;">EXPORT COMPLIANCE TRAINING</span></span></h1>\n\n<h3 align="center" style="margin-top:2.25pt\;margin-right:0in\;margin-bottom:3.0pt\;margin-left:0in\;text-align:center\;"><span style="font-family:arial\,sans-serif\;"><span style="font-size:11.5pt\;">Keep Current on YOUR Requirements as an Exporter!&nbsp\; </span></span></h3>\n\n<h3 align="center" style="margin-top:2.25pt\;margin-right:0in\;margin-bottom:3.0pt\;margin-left:0in\;text-align:center\;"><span style="font-family:arial\,sans-serif\;"><span style="font-size:11.5pt\;">Why travel to the lower 48?!</span></span></h3>\n\n<h3 align="center" style="margin-top:2.25pt\;margin-right:0in\;margin-bottom:3.0pt\;margin-left:0in\;text-align:center\;"><span style="font-family:arial\,sans-serif\;"><span style="font-size:11.5pt\;">Learn from an EXPERT!&nbsp\; </span></span></h3>\n&nbsp\;<br />\n<strong><span style="color:#232323\;"><span style="font-family:arial\,sans-serif\;"><span style="font-size:10.0pt\;">WHO SHOULD ATTEND:</span></span></span></strong><span style="color:#232323\;"><span style="font-family:arial\,sans-serif\;"><span style="font-size:10.0pt\;">&nbsp\;&nbsp\;Business Owners\,&nbsp\; Finance Managers\,Traffic Managers\,&nbsp\;Plant Managers\,&nbsp\;ISO Managers\,&nbsp\;Sales Managers\,&nbsp\;Controllers\, Operations Managers\, Purchasing Managers\,&nbsp\;&nbsp\;Shipping/Receiving Personnel\,&nbsp\;Customer Service Managers\,&nbsp\;Compliance Officers.&nbsp\;Anyone Involved with Exports!</span></span></span>\n\n<h2 align="center" style="margin-top:3.75pt\;margin-right:0in\;margin-bottom:3.0pt\;margin-left:0in\;text-align:center\;">&nbsp\;</h2>\n
LOCATION:NANA\, NANAtkut Conference Room 909 W. 9th Avenue\, Anchorage\, AK
UID:e.106.18798
SEQUENCE:3
DTSTAMP:20260421T203055Z
URL:https://www.fairbankschamber.org/events/details/export-compliance-training-18798
END:VEVENT

END:VCALENDAR
