BEGIN:VCALENDAR
VERSION:2.0
PRODID:-//ChamberMaster//Event Calendar 2.0//EN
METHOD:PUBLISH
X-PUBLISHED-TTL:P3D
REFRESH-INTERVAL:P3D
CALSCALE:GREGORIAN
BEGIN:VEVENT
DTSTART:20170125T170000Z
DTEND:20170126T004500Z
X-MICROSOFT-CDO-ALLDAYEVENT:FALSE
SUMMARY:Explore Fairbanks Interior Tourism Conference
DESCRIPTION:Explore Fairbanks will be hosting it's 10th Annual Interior Tourism Conference. This Conference includes a day filled with educational seminars\, networking\, and lunch with keynote speaker\, Galen Emanuele. A wide variety of topics related to the visitor industry will be covered including State of the Industry update\; Working with the China Market\; and Expedia\, Inc.: Alaska & the Age of Online Travel Agents. Registration is open to the public online through Monday\, January 23.
X-ALT-DESC;FMTTYPE=text/html:Explore Fairbanks will be hosting it&#39\;s 10th Annual Interior Tourism Conference. This Conference includes a day filled with educational seminars\, networking\, and lunch with keynote speaker\, Galen Emanuele. A wide variety of topics related to the visitor industry will be covered including State of the Industry update\; Working with the China Market\; and Expedia\, Inc.: Alaska &amp\; the Age of Online Travel Agents. Registration is open to the public online through Monday\, January 23.
LOCATION:Westmark Fairbanks Hotel & Conference Center
UID:e.106.17621
SEQUENCE:3
DTSTAMP:20260422T011840Z
URL:https://www.fairbankschamber.org/events/details/explore-fairbanks-interior-tourism-conference-17621
END:VEVENT

END:VCALENDAR
