BEGIN:VCALENDAR
VERSION:2.0
PRODID:-//ChamberMaster//Event Calendar 2.0//EN
METHOD:PUBLISH
X-PUBLISHED-TTL:P3D
REFRESH-INTERVAL:P3D
CALSCALE:GREGORIAN
BEGIN:VEVENT
DTSTART:20161025T153000Z
DTEND:20161025T163000Z
X-MICROSOFT-CDO-ALLDAYEVENT:FALSE
SUMMARY:Energy\, Environment & Natural Resources Committee
DESCRIPTION:
X-ALT-DESC;FMTTYPE=text/html:
LOCATION:Chamber Office\, Conference Room
UID:e.106.17356
SEQUENCE:3
DTSTAMP:20260422T054834Z
URL:https://www.fairbankschamber.org/events/details/energy-environment-natural-resources-committee-17356
END:VEVENT

END:VCALENDAR
