BEGIN:VCALENDAR
VERSION:2.0
PRODID:-//ChamberMaster//Event Calendar 2.0//EN
METHOD:PUBLISH
X-PUBLISHED-TTL:P3D
REFRESH-INTERVAL:P3D
CALSCALE:GREGORIAN
BEGIN:VEVENT
DTSTART:20161012T153000Z
DTEND:20161012T163000Z
X-MICROSOFT-CDO-ALLDAYEVENT:FALSE
SUMMARY:Energy\, Environment and Natural Resources Committee
DESCRIPTION:Chamber Office\, Conference Room
X-ALT-DESC;FMTTYPE=text/html:Chamber Office\, Conference Room
LOCATION:
UID:e.106.17289
SEQUENCE:3
DTSTAMP:20260422T055047Z
URL:https://www.fairbankschamber.org/events/details/energy-environment-and-natural-resources-committee-17289
END:VEVENT

END:VCALENDAR
