BEGIN:VCALENDAR
VERSION:2.0
PRODID:-//ChamberMaster//Event Calendar 2.0//EN
METHOD:PUBLISH
X-PUBLISHED-TTL:P3D
REFRESH-INTERVAL:P3D
CALSCALE:GREGORIAN
BEGIN:VEVENT
DTSTART:20170513T180000Z
DTEND:20170514T000000Z
X-MICROSOFT-CDO-ALLDAYEVENT:FALSE
SUMMARY:Empower Empire Rummage Sale
DESCRIPTION:Come out expecting to have a blast! There will be games and prizes.\n\nLakesha Jordan will be doing a book signing for her new book "At War With Thy Self"
X-ALT-DESC;FMTTYPE=text/html:Come out expecting to have a blast! There will be games and prizes.<br />\nLakesha Jordan will be doing a book signing for her new book &quot\;At War With Thy Self&quot\;
LOCATION:1410 22nd Ave Right off Cowles Street
UID:e.106.18832
SEQUENCE:3
DTSTAMP:20260421T191018Z
URL:https://www.fairbankschamber.org/events/details/empower-empire-rummage-sale-18832
END:VEVENT

END:VCALENDAR
